BEGIN:VCALENDAR
VERSION:2.0
PRODID:-//Katalina Producciones - ECPv6.15.20//NONSGML v1.0//EN
CALSCALE:GREGORIAN
METHOD:PUBLISH
X-WR-CALNAME:Katalina Producciones
X-ORIGINAL-URL:https://katalinaproducciones.com
X-WR-CALDESC:Eventos para Katalina Producciones
REFRESH-INTERVAL;VALUE=DURATION:PT1H
X-Robots-Tag:noindex
X-PUBLISHED-TTL:PT1H
BEGIN:VTIMEZONE
TZID:Europe/Madrid
BEGIN:DAYLIGHT
TZOFFSETFROM:+0100
TZOFFSETTO:+0200
TZNAME:CEST
DTSTART:20240331T010000
END:DAYLIGHT
BEGIN:STANDARD
TZOFFSETFROM:+0200
TZOFFSETTO:+0100
TZNAME:CET
DTSTART:20241027T010000
END:STANDARD
BEGIN:DAYLIGHT
TZOFFSETFROM:+0100
TZOFFSETTO:+0200
TZNAME:CEST
DTSTART:20250330T010000
END:DAYLIGHT
BEGIN:STANDARD
TZOFFSETFROM:+0200
TZOFFSETTO:+0100
TZNAME:CET
DTSTART:20251026T010000
END:STANDARD
BEGIN:DAYLIGHT
TZOFFSETFROM:+0100
TZOFFSETTO:+0200
TZNAME:CEST
DTSTART:20260329T010000
END:DAYLIGHT
BEGIN:STANDARD
TZOFFSETFROM:+0200
TZOFFSETTO:+0100
TZNAME:CET
DTSTART:20261025T010000
END:STANDARD
END:VTIMEZONE
BEGIN:VEVENT
DTSTART;TZID=Europe/Madrid:20251031T180000
DTEND;TZID=Europe/Madrid:20251031T193000
DTSTAMP:20260420T210634
CREATED:20250917T062532Z
LAST-MODIFIED:20250917T062532Z
UID:10000003-1761933600-1761939000@katalinaproducciones.com
SUMMARY:El Día de la Gran Verdad
DESCRIPTION:
URL:https://katalinaproducciones.com/evento/el-dia-de-la-gran-verdad/2025-10-31/1/
LOCATION:Centro Cultural de la Villa\, Vereda de los Chapatales\, 2\, Sevilla\, San José de la Rinconada\, 41300\, Spain
ATTACH;FMTTYPE=image/jpeg:https://katalinaproducciones.com/wp-content/uploads/2025/09/20251031-Dia-de-la-Gran-Verdad-v2.jpg
ORGANIZER;CN="Katalina Producciones":MAILTO:contacto@katalinaproducciones.com
END:VEVENT
BEGIN:VEVENT
DTSTART;TZID=Europe/Madrid:20251031T210000
DTEND;TZID=Europe/Madrid:20251031T223000
DTSTAMP:20260420T210634
CREATED:20250917T062532Z
LAST-MODIFIED:20250917T062532Z
UID:10000004-1761944400-1761949800@katalinaproducciones.com
SUMMARY:El Día de la Gran Verdad
DESCRIPTION:
URL:https://katalinaproducciones.com/evento/el-dia-de-la-gran-verdad/2025-10-31/2/
LOCATION:Centro Cultural de la Villa\, Vereda de los Chapatales\, 2\, Sevilla\, San José de la Rinconada\, 41300\, Spain
ATTACH;FMTTYPE=image/jpeg:https://katalinaproducciones.com/wp-content/uploads/2025/09/20251031-Dia-de-la-Gran-Verdad-v2.jpg
ORGANIZER;CN="Katalina Producciones":MAILTO:contacto@katalinaproducciones.com
END:VEVENT
END:VCALENDAR